{
 "currentVersion": 11.5,
 "serviceDescription": "A new map of the City of Buffalo, embracing all the territory including the upper & lower villages of Black Rock, Cold Springs, &c. as authorized under the Act of 1853. Date Issued: 1855, Surveyor: Lovejoy, Henry, Publisher Thomas & Lathrops\nMap was georeferenced using ArcMap 10.5.1\n",
 "name": "Battle_of_Scaj/1855_Lovejoy",
 "description": "A new map of the City of Buffalo, embracing all the territory including the upper & lower villages of Black Rock, Cold Springs, &c. as authorized under the Act of 1853. Date Issued: 1855, Surveyor: Lovejoy, Henry, Publisher Thomas & Lathrops\nMap was georeferenced using ArcMap 10.5.1\n",
 "extent": {
  "xmin": 1051559.6081928492,
  "ymin": 1055200.5948010136,
  "xmax": 1092846.5734398493,
  "ymax": 1085719.9647150135,
  "spatialReference": {
   "wkid": 102717,
   "latestWkid": 2262
  }
 },
 "initialExtent": {
  "xmin": 1051559.6081928492,
  "ymin": 1055200.5948010136,
  "xmax": 1092846.5734398493,
  "ymax": 1085719.9647150135,
  "spatialReference": {
   "wkid": 102717,
   "latestWkid": 2262
  }
 },
 "fullExtent": {
  "xmin": 1051559.6081928492,
  "ymin": 1055200.5948010136,
  "xmax": 1092846.5734398493,
  "ymax": 1085719.9647150135,
  "spatialReference": {
   "wkid": 102717,
   "latestWkid": 2262
  }
 },
 "sortableFields": "",
 "bandCount": 3,
 "pixelType": "U16",
 "minValues": [
  4,
  4,
  3
 ],
 "maxValues": [
  255,
  255,
  255
 ],
 "meanValues": [
  151.3833429464,
  129.64397499489,
  105.8398193085
 ],
 "stdvValues": [
  36.196432697737,
  26.607451500523,
  16.958304503072
 ],
 "serviceProperties": "Center<\/MosaicMethod>First<\/MosaicOperator>true<\/SortAscending><\/LockImageID><\/TileOrderField>0<\/TileOrderBase>0.000000<\/AvgImageSpacingX>0.000000<\/AvgImageSpacingY>0.0<\/ViewPointX>0.0<\/ViewPointY>0.0<\/ViewPointDefShiftX>0.0<\/ViewPointDefShiftY>None<\/CompressionMethod>75<\/CompressionQuality>0.010000<\/CompressionTolerance>Bilinear<\/SamplingMethod><\/ImageServiceProperties><\/ImageServer>",
 "allowedFields": "",
 "hasMultidimensions": false,
 "pixelSizeX": 3.531517000000009,
 "pixelSizeY": 3.531516999999991,
 "meanPixelSize": 1.076408534417069,
 "datasetFormat": "TIFF",
 "uncompressedSize": 606201732,
 "blockWidth": 128,
 "blockHeight": 128,
 "compressionType": "None",
 "bandNames": [
  "Band_1",
  "Band_2",
  "Band_3"
 ],
 "allowCopy": true,
 "allowAnalysis": true,
 "itemAccess": false,
 "inspectionCapabilities": "",
 "noDataValue": 256,
 "noDataValues": [
  256,
  256,
  256
 ],
 "minPixelSize": 0,
 "maxPixelSize": 0,
 "copyrightText": "MP",
 "serviceDataType": "esriImageServiceDataTypeGeneric",
 "serviceSourceType": "esriImageServiceSourceTypeDataset",
 "objectIdField": "",
 "fields": [],
 "capabilities": "Mensuration,Image,Metadata",
 "defaultMosaicMethod": "Center",
 "allowedMosaicMethods": "",
 "sortField": "",
 "sortValue": null,
 "sortAscending": true,
 "mosaicOperator": "First",
 "defaultCompressionQuality": 75,
 "defaultResamplingMethod": "Bilinear",
 "maxImageHeight": 4100,
 "maxImageWidth": 15000,
 "allowRasterFunction": true,
 "rasterFunctionInfos": [
  {
   "name": "None",
   "description": "",
   "help": ""
  }
 ],
 "rasterTypeInfos": [
  {
   "name": "Raster Dataset",
   "description": "Supports all ArcGIS Raster Datasets",
   "help": ""
  }
 ],
 "mensurationCapabilities": "Basic",
 "hasHistograms": true,
 "hasColormap": false,
 "hasRasterAttributeTable": false,
 "minScale": 0,
 "maxScale": 0,
 "exportTilesAllowed": false,
 "supportsStatistics": false,
 "supportsAdvancedQueries": false,
 "editFieldsInfo": null,
 "ownershipBasedAccessControlForRasters": null,
 "allowComputeTiePoints": false,
 "useStandardizedQueries": true,
 "advancedQueryCapabilities": {
  "useStandardizedQueries": true,
  "supportsStatistics": false,
  "supportsOrderBy": false,
  "supportsDistinct": false,
  "supportsPagination": false
 },
 "spatialReference": {
  "wkid": 102717,
  "latestWkid": 2262
 }
}
