{
 "currentVersion": 11.5,
 "serviceDescription": "Western New York Snowfall",
 "name": "GIS_Module/snowfall3",
 "description": "Western New York Snowfall",
 "extent": {
  "xmin": 1305482.6562769748,
  "ymin": 451802.4664852269,
  "xmax": 1499252.0724714524,
  "ymax": 633647.6109138904,
  "spatialReference": {
   "wkid": 102005,
   "latestWkid": 102005
  }
 },
 "initialExtent": {
  "xmin": 1305482.6562769748,
  "ymin": 451802.4664852269,
  "xmax": 1499252.0724714524,
  "ymax": 633647.6109138904,
  "spatialReference": {
   "wkid": 102005,
   "latestWkid": 102005
  }
 },
 "fullExtent": {
  "xmin": 1305482.6562769748,
  "ymin": 451802.4664852269,
  "xmax": 1499252.0724714524,
  "ymax": 633647.6109138904,
  "spatialReference": {
   "wkid": 102005,
   "latestWkid": 102005
  }
 },
 "sortableFields": "",
 "bandCount": 1,
 "pixelType": "F32",
 "minValues": [
  51.923248291015625
 ],
 "maxValues": [
  105.22112274169922
 ],
 "meanValues": [
  84.97072802965977
 ],
 "stdvValues": [
  13.523973503269795
 ],
 "serviceProperties": "Center<\/MosaicMethod>First<\/MosaicOperator>true<\/SortAscending><\/LockImageID><\/TileOrderField>0<\/TileOrderBase>0.000000<\/AvgImageSpacingX>0.000000<\/AvgImageSpacingY>0.0<\/ViewPointX>0.0<\/ViewPointY>0.0<\/ViewPointDefShiftX>0.0<\/ViewPointDefShiftY>None<\/CompressionMethod>75<\/CompressionQuality>0.010000<\/CompressionTolerance>Bilinear<\/SamplingMethod><\/ImageServiceProperties><\/ImageServer>",
 "allowedFields": "",
 "hasMultidimensions": false,
 "pixelSizeX": 1490.5339707267506,
 "pixelSizeY": 1490.5339707267503,
 "meanPixelSize": 1490.5339707267503,
 "datasetFormat": "FGDBR",
 "uncompressedSize": 63440,
 "blockWidth": 128,
 "blockHeight": 128,
 "compressionType": "NONE",
 "bandNames": [
  "Band_1"
 ],
 "allowCopy": true,
 "allowAnalysis": true,
 "itemAccess": false,
 "inspectionCapabilities": "",
 "minPixelSize": 0,
 "maxPixelSize": 0,
 "copyrightText": "",
 "serviceDataType": "esriImageServiceDataTypeGeneric",
 "serviceSourceType": "esriImageServiceSourceTypeDataset",
 "objectIdField": "",
 "fields": [],
 "capabilities": "Image,Metadata,Mensuration",
 "defaultMosaicMethod": "Center",
 "allowedMosaicMethods": "",
 "sortField": "",
 "sortValue": null,
 "sortAscending": true,
 "mosaicOperator": "First",
 "defaultCompressionQuality": 75,
 "defaultResamplingMethod": "Bilinear",
 "maxImageHeight": 4100,
 "maxImageWidth": 15000,
 "allowRasterFunction": true,
 "rasterFunctionInfos": [
  {
   "name": "None",
   "description": "Make a Raster or Raster Dataset into a Function Raster Dataset.",
   "help": ""
  },
  {
   "name": "snowfall",
   "description": "A raster function template.",
   "help": ""
  }
 ],
 "rasterTypeInfos": [
  {
   "name": "Raster Dataset",
   "description": "Supports all ArcGIS Raster Datasets",
   "help": ""
  }
 ],
 "mensurationCapabilities": "Basic",
 "hasHistograms": true,
 "hasColormap": false,
 "hasRasterAttributeTable": false,
 "minScale": 0,
 "maxScale": 0,
 "exportTilesAllowed": false,
 "supportsStatistics": false,
 "supportsAdvancedQueries": false,
 "editFieldsInfo": null,
 "ownershipBasedAccessControlForRasters": null,
 "allowComputeTiePoints": false,
 "useStandardizedQueries": true,
 "advancedQueryCapabilities": {
  "useStandardizedQueries": true,
  "supportsStatistics": false,
  "supportsOrderBy": false,
  "supportsDistinct": false,
  "supportsPagination": false
 },
 "spatialReference": {
  "wkid": 102005,
  "latestWkid": 102005
 }
}
