View In:
ArcGIS JavaScript
ArcGIS Online Map Viewer
ArcGIS Earth
Service Description: Historic Maps that have been georeferenced to help glean insight into the location of the battle site, batterires, fortifications and other artifacts related to the Battle of Scajaquada Creek on August 3, 1814.
Name: Battle_of_Scaj/Maj_Gen_Lewis_Map
Description: Historic Maps that have been georeferenced to help glean insight into the location of the battle site, batterires, fortifications and other artifacts related to the Battle of Scajaquada Creek on August 3, 1814.
Single Fused Map Cache: false
Extent:
XMin: 986704.4854527311
YMin: 1007790.5931897586
XMax: 1108216.178444731
YMax: 1211412.5061437585
Spatial Reference: 102717
(2262)
LatestVCSWkid(0)
Initial Extent:
XMin: 986704.4854527311
YMin: 1007790.5931897586
XMax: 1108216.178444731
YMax: 1211412.5061437585
Spatial Reference: 102717
(2262)
LatestVCSWkid(0)
Full Extent:
XMin: 986704.4854527311
YMin: 1007790.5931897586
XMax: 1108216.178444731
YMax: 1211412.5061437585
Spatial Reference: 102717
(2262)
LatestVCSWkid(0)
Pixel Size X: 20.415270999999986
Pixel Size Y: 20.415270999999994
Band Count: 3
Pixel Type: U16
RasterFunction Infos: {"rasterFunctionInfos": [{
"name": "None",
"description": "",
"help": ""
}]}
Mensuration Capabilities: Basic
Inspection Capabilities:
Has Histograms: true
Has Colormap: false
Has Multi Dimensions : false
Rendering Rule:
Min Scale: 0
Max Scale: 0
Copyright Text: M. Perrelli
Service Data Type: esriImageServiceDataTypeGeneric
Min Values: 0, 19, 1
Max Values: 255, 255, 255
Mean Values: 173.51732692654, 171.10959827861, 140.55292934089
Standard Deviation Values: 20.949572737954, 20.4666642534, 27.236107966707
Object ID Field:
Fields:
None
Default Mosaic Method: Center
Allowed Mosaic Methods:
SortField:
SortValue: null
Mosaic Operator: First
Default Compression Quality: 75
Default Resampling Method: Bilinear
Max Record Count: null
Max Image Height: 4100
Max Image Width: 15000
Max Download Image Count: null
Max Mosaic Image Count: null
Allow Raster Function: true
Allow Copy: true
Allow Analysis: true
Allow Compute TiePoints: false
Supports Statistics: false
Supports Advanced Queries: false
Use StandardizedQueries: true
Raster Type Infos:
Name: Raster Dataset
Description: Supports all ArcGIS Raster Datasets
Help:
Has Raster Attribute Table: false
Edit Fields Info: null
Ownership Based AccessControl For Rasters: null
Child Resources:
Info
Histograms
Statistics
Key Properties
Legend
Raster Function Infos
Supported Operations:
Export Image
Identify
Measure
Compute Histograms
Compute Statistics Histograms
Get Samples
Compute Class Statistics
Query Boundary
Compute Pixel Location
Compute Angles
Validate
Project