View In:
ArcGIS JavaScript
ArcGIS Online Map Viewer
ArcGIS Earth
Service Description: Historic Maps that have been georeferenced to help glean insight into the location of the battle site, batterires, fortifications and other artifacts related to the Battle of Scajaquada Creek on August 3, 1814.
Name: Battle_of_Scaj/NiagaraRiver_Lewis
Description: Historic Maps that have been georeferenced to help glean insight into the location of the battle site, batterires, fortifications and other artifacts related to the Battle of Scajaquada Creek on August 3, 1814.
Single Fused Map Cache: false
Extent:
XMin: 984141.8537666296
YMin: 1031039.7638851908
XMax: 1106473.4707826297
YMax: 1212814.459030191
Spatial Reference: 102717
(2262)
LatestVCSWkid(0)
Initial Extent:
XMin: 984141.8537666296
YMin: 1031039.7638851908
XMax: 1106473.4707826297
YMax: 1212814.459030191
Spatial Reference: 102717
(2262)
LatestVCSWkid(0)
Full Extent:
XMin: 984141.8537666296
YMin: 1031039.7638851908
XMax: 1106473.4707826297
YMax: 1212814.459030191
Spatial Reference: 102717
(2262)
LatestVCSWkid(0)
Pixel Size X: 17.760107000000012
Pixel Size Y: 17.760107000000012
Band Count: 3
Pixel Type: U16
RasterFunction Infos: {"rasterFunctionInfos": [{
"name": "None",
"description": "",
"help": ""
}]}
Mensuration Capabilities: Basic
Inspection Capabilities:
Has Histograms: true
Has Colormap: false
Has Multi Dimensions : false
Rendering Rule:
Min Scale: 0
Max Scale: 0
Copyright Text: M. Perrelli
Service Data Type: esriImageServiceDataTypeGeneric
Min Values: 8, 20, 0
Max Values: 255, 255, 249
Mean Values: 177.6506474893, 156.59822019447, 110.21909337438
Standard Deviation Values: 26.397388080761, 24.932495307104, 28.985202413614
Object ID Field:
Fields:
None
Default Mosaic Method: Center
Allowed Mosaic Methods:
SortField:
SortValue: null
Mosaic Operator: First
Default Compression Quality: 75
Default Resampling Method: Bilinear
Max Record Count: null
Max Image Height: 4100
Max Image Width: 15000
Max Download Image Count: null
Max Mosaic Image Count: null
Allow Raster Function: true
Allow Copy: true
Allow Analysis: true
Allow Compute TiePoints: false
Supports Statistics: false
Supports Advanced Queries: false
Use StandardizedQueries: true
Raster Type Infos:
Name: Raster Dataset
Description: Supports all ArcGIS Raster Datasets
Help:
Has Raster Attribute Table: false
Edit Fields Info: null
Ownership Based AccessControl For Rasters: null
Child Resources:
Info
Histograms
Statistics
Key Properties
Legend
Raster Function Infos
Supported Operations:
Export Image
Identify
Measure
Compute Histograms
Compute Statistics Histograms
Get Samples
Compute Class Statistics
Query Boundary
Compute Pixel Location
Compute Angles
Validate
Project