View In:
ArcGIS JavaScript
ArcGIS Online Map Viewer
ArcGIS Earth
Service Description: Historic Maps that have been georeferenced to help glean insight into the location of the battle site, batterires, fortifications and other artifacts related to the Battle of Scajaquada Creek on August 3, 1814.
Name: Battle_of_Scaj/Peter_Porter_1919
Description: Historic Maps that have been georeferenced to help glean insight into the location of the battle site, batterires, fortifications and other artifacts related to the Battle of Scajaquada Creek on August 3, 1814.
Single Fused Map Cache: false
Extent:
XMin: 982011.7429752758
YMin: 1015113.4874575164
XMax: 1102058.5916002758
YMax: 1222180.8832825164
Spatial Reference: 102717
(2262)
LatestVCSWkid(0)
Initial Extent:
XMin: 982011.7429752758
YMin: 1015113.4874575164
XMax: 1102058.5916002758
YMax: 1222180.8832825164
Spatial Reference: 102717
(2262)
LatestVCSWkid(0)
Full Extent:
XMin: 982011.7429752758
YMin: 1015113.4874575164
XMax: 1102058.5916002758
YMax: 1222180.8832825164
Spatial Reference: 102717
(2262)
LatestVCSWkid(0)
Pixel Size X: 35.78147499999999
Pixel Size Y: 35.781475
Band Count: 3
Pixel Type: U16
RasterFunction Infos: {"rasterFunctionInfos": [{
"name": "None",
"description": "",
"help": ""
}]}
Mensuration Capabilities: Basic
Inspection Capabilities:
Has Histograms: true
Has Colormap: false
Has Multi Dimensions : false
Rendering Rule:
Min Scale: 0
Max Scale: 0
Copyright Text: M. Perrelli
Service Data Type: esriImageServiceDataTypeGeneric
Min Values: 25, 35, 18
Max Values: 244, 250, 243
Mean Values: 192.9194882169, 191.1564947797, 167.87632989336
Standard Deviation Values: 20.434211697097, 21.676203133761, 25.186463164749
Object ID Field:
Fields:
None
Default Mosaic Method: Center
Allowed Mosaic Methods:
SortField:
SortValue: null
Mosaic Operator: First
Default Compression Quality: 75
Default Resampling Method: Bilinear
Max Record Count: null
Max Image Height: 4100
Max Image Width: 15000
Max Download Image Count: null
Max Mosaic Image Count: null
Allow Raster Function: true
Allow Copy: true
Allow Analysis: true
Allow Compute TiePoints: false
Supports Statistics: false
Supports Advanced Queries: false
Use StandardizedQueries: true
Raster Type Infos:
Name: Raster Dataset
Description: Supports all ArcGIS Raster Datasets
Help:
Has Raster Attribute Table: false
Edit Fields Info: null
Ownership Based AccessControl For Rasters: null
Child Resources:
Info
Histograms
Statistics
Key Properties
Legend
Raster Function Infos
Supported Operations:
Export Image
Identify
Measure
Compute Histograms
Compute Statistics Histograms
Get Samples
Compute Class Statistics
Query Boundary
Compute Pixel Location
Compute Angles
Validate
Project