View In:
ArcGIS JavaScript
ArcGIS Online Map Viewer
ArcGIS Earth
Service Description: Elevation of Western New York (10m DEM)
Name: GIS_Module/Elevation
Description: Elevation of Western New York (10m DEM)
Single Fused Map Cache: false
Extent:
XMin: -79.76222222117799
YMin: 41.99944443568002
XMax: -77.72296295294599
YMax: 43.37657407136902
Spatial Reference: 4269
(4269)
LatestVCSWkid(0)
Initial Extent:
XMin: -79.76222222117799
YMin: 41.99944443568002
XMax: -77.72296295294599
YMax: 43.37657407136902
Spatial Reference: 4269
(4269)
LatestVCSWkid(0)
Full Extent:
XMin: -79.76222222117799
YMin: 41.99944443568002
XMax: -77.72296295294599
YMax: 43.37657407136902
Spatial Reference: 4269
(4269)
LatestVCSWkid(0)
Pixel Size X: 9.259259300000007E-5
Pixel Size Y: 9.259259300000013E-5
Band Count: 1
Pixel Type: F32
RasterFunction Infos: {"rasterFunctionInfos": [
{
"name": "None",
"description": "Make a Raster or Raster Dataset into a Function Raster Dataset.",
"help": ""
},
{
"name": "ElevationRange",
"description": "A raster function template.",
"help": ""
}
]}
Mensuration Capabilities: Basic
Inspection Capabilities:
Has Histograms: true
Has Colormap: false
Has Multi Dimensions : false
Rendering Rule:
Min Scale: 0
Max Scale: 0
Copyright Text: MP
Service Data Type: esriImageServiceDataTypeGeneric
Min Values: 236.22047424316406
Max Values: 2545.931884765625
Mean Values: 1281.9235588961699
Standard Deviation Values: 543.3439387279236
Object ID Field:
Fields:
None
Default Mosaic Method: Center
Allowed Mosaic Methods:
SortField:
SortValue: null
Mosaic Operator: First
Default Compression Quality: 75
Default Resampling Method: Bilinear
Max Record Count: null
Max Image Height: 4100
Max Image Width: 15000
Max Download Image Count: null
Max Mosaic Image Count: null
Allow Raster Function: true
Allow Copy: true
Allow Analysis: true
Allow Compute TiePoints: false
Supports Statistics: false
Supports Advanced Queries: false
Use StandardizedQueries: true
Raster Type Infos:
Name: Raster Dataset
Description: Supports all ArcGIS Raster Datasets
Help:
Has Raster Attribute Table: false
Edit Fields Info: null
Ownership Based AccessControl For Rasters: null
Child Resources:
Info
Histograms
Statistics
Key Properties
Legend
Raster Function Infos
Supported Operations:
Export Image
Identify
Measure
Compute Histograms
Compute Statistics Histograms
Get Samples
Compute Class Statistics
Query Boundary
Compute Pixel Location
Compute Angles
Validate
Project