View In:
ArcGIS JavaScript
ArcGIS Online Map Viewer
ArcGIS Earth
Service Description: 30 year average summer rainfall for Western New York
Name: GIS_Module/SummerRainfall
Description: 30 year average summer rainfall for Western New York
Single Fused Map Cache: false
Extent:
XMin: -79.76731549459691
YMin: 41.959430189173
XMax: -77.67564882793033
YMax: 43.40943018917294
Spatial Reference: 4269
(4269)
LatestVCSWkid(0)
Initial Extent:
XMin: -79.76731549459691
YMin: 41.959430189173
XMax: -77.67564882793033
YMax: 43.40943018917294
Spatial Reference: 4269
(4269)
LatestVCSWkid(0)
Full Extent:
XMin: -79.76731549459691
YMin: 41.959430189173
XMax: -77.67564882793033
YMax: 43.40943018917294
Spatial Reference: 4269
(4269)
LatestVCSWkid(0)
Pixel Size X: 0.008333333333333002
Pixel Size Y: 0.008333333333332983
Band Count: 1
Pixel Type: F32
RasterFunction Infos: {"rasterFunctionInfos": [
{
"name": "None",
"description": "Make a Raster or Raster Dataset into a Function Raster Dataset.",
"help": ""
},
{
"name": "SummerRain",
"description": "A raster function template.",
"help": ""
}
]}
Mensuration Capabilities: Basic
Inspection Capabilities:
Has Histograms: true
Has Colormap: false
Has Multi Dimensions : false
Rendering Rule:
Min Scale: 0
Max Scale: 0
Copyright Text: MP
Service Data Type: esriImageServiceDataTypeGeneric
Min Values: 8.496850967407227
Max Values: 14.321260452270508
Mean Values: 11.962975809209563
Standard Deviation Values: 1.5172963524996412
Object ID Field:
Fields:
None
Default Mosaic Method: Center
Allowed Mosaic Methods:
SortField:
SortValue: null
Mosaic Operator: First
Default Compression Quality: 75
Default Resampling Method: Bilinear
Max Record Count: null
Max Image Height: 4100
Max Image Width: 15000
Max Download Image Count: null
Max Mosaic Image Count: null
Allow Raster Function: true
Allow Copy: true
Allow Analysis: true
Allow Compute TiePoints: false
Supports Statistics: false
Supports Advanced Queries: false
Use StandardizedQueries: true
Raster Type Infos:
Name: Raster Dataset
Description: Supports all ArcGIS Raster Datasets
Help:
Has Raster Attribute Table: false
Edit Fields Info: null
Ownership Based AccessControl For Rasters: null
Child Resources:
Info
Histograms
Statistics
Key Properties
Legend
Raster Function Infos
Supported Operations:
Export Image
Identify
Measure
Compute Histograms
Compute Statistics Histograms
Get Samples
Compute Class Statistics
Query Boundary
Compute Pixel Location
Compute Angles
Validate
Project