View In:
ArcGIS JavaScript
ArcGIS Online Map Viewer
ArcGIS Earth
Service Description: WNY, Average Winter Tempature, urban heat island
Name: GIS_Module/winter_heat_test3
Description: WNY, Average Winter Tempature, urban heat island
Single Fused Map Cache: false
Extent:
XMin: 599797.1839317586
YMin: 4646015.96948399
XMax: 775543.1839317586
YMax: 4811663.96948399
Spatial Reference: 26917
(26917)
LatestVCSWkid(0)
Initial Extent:
XMin: 599797.1839317586
YMin: 4646015.96948399
XMax: 775543.1839317586
YMax: 4811663.96948399
Spatial Reference: 26917
(26917)
LatestVCSWkid(0)
Full Extent:
XMin: 599797.1839317586
YMin: 4646015.96948399
XMax: 775543.1839317586
YMax: 4811663.96948399
Spatial Reference: 26917
(26917)
LatestVCSWkid(0)
Pixel Size X: 51.0
Pixel Size Y: 51.0
Band Count: 1
Pixel Type: F32
RasterFunction Infos: {"rasterFunctionInfos": [
{
"name": "WinterHeat",
"description": "A raster function template.",
"help": ""
},
{
"name": "None",
"description": "",
"help": ""
}
]}
Mensuration Capabilities: Basic
Inspection Capabilities:
Has Histograms: true
Has Colormap: false
Has Multi Dimensions : false
Rendering Rule:
Min Scale: 0
Max Scale: 0
Copyright Text:
Service Data Type: esriImageServiceDataTypeGeneric
Min Values: 22.274000167847
Max Values: 28.916000366211
Mean Values: 25.41368578902
Standard Deviation Values: 1.5783347356128
Object ID Field:
Fields:
None
Default Mosaic Method: Center
Allowed Mosaic Methods:
SortField:
SortValue: null
Mosaic Operator: First
Default Compression Quality: 75
Default Resampling Method: Bilinear
Max Record Count: null
Max Image Height: 4100
Max Image Width: 15000
Max Download Image Count: null
Max Mosaic Image Count: null
Allow Raster Function: true
Allow Copy: true
Allow Analysis: true
Allow Compute TiePoints: false
Supports Statistics: false
Supports Advanced Queries: false
Use StandardizedQueries: true
Raster Type Infos:
Name: Raster Dataset
Description: Supports all ArcGIS Raster Datasets
Help:
Has Raster Attribute Table: false
Edit Fields Info: null
Ownership Based AccessControl For Rasters: null
Child Resources:
Info
Histograms
Statistics
Key Properties
Legend
Raster Function Infos
Supported Operations:
Export Image
Identify
Measure
Compute Histograms
Compute Statistics Histograms
Get Samples
Compute Class Statistics
Query Boundary
Compute Pixel Location
Compute Angles
Validate
Project