View In:
ArcGIS JavaScript
ArcGIS Online Map Viewer
ArcGIS Earth
Service Description: A new map of the City of Buffalo, embracing all the territory including the upper & lower villages of Black Rock, Cold Springs, &c. as authorized under the Act of 1853. Date Issued: 1855, Surveyor: Lovejoy, Henry, Publisher Thomas & Lathrops
Map was georeferenced using ArcMap 10.5.1
Name: Battle_of_Scaj/1855_Lovejoy
Description: A new map of the City of Buffalo, embracing all the territory including the upper & lower villages of Black Rock, Cold Springs, &c. as authorized under the Act of 1853. Date Issued: 1855, Surveyor: Lovejoy, Henry, Publisher Thomas & Lathrops
Map was georeferenced using ArcMap 10.5.1
Single Fused Map Cache: false
Extent:
XMin: 1051559.6081928492
YMin: 1055200.5948010136
XMax: 1092846.5734398493
YMax: 1085719.9647150135
Spatial Reference: 102717
(2262)
LatestVCSWkid(0)
Initial Extent:
XMin: 1051559.6081928492
YMin: 1055200.5948010136
XMax: 1092846.5734398493
YMax: 1085719.9647150135
Spatial Reference: 102717
(2262)
LatestVCSWkid(0)
Full Extent:
XMin: 1051559.6081928492
YMin: 1055200.5948010136
XMax: 1092846.5734398493
YMax: 1085719.9647150135
Spatial Reference: 102717
(2262)
LatestVCSWkid(0)
Pixel Size X: 3.531517000000009
Pixel Size Y: 3.531516999999991
Band Count: 3
Pixel Type: U16
RasterFunction Infos: {"rasterFunctionInfos": [{
"name": "None",
"description": "",
"help": ""
}]}
Mensuration Capabilities: Basic
Inspection Capabilities:
Has Histograms: true
Has Colormap: false
Has Multi Dimensions : false
Rendering Rule:
Min Scale: 0
Max Scale: 0
Copyright Text: MP
Service Data Type: esriImageServiceDataTypeGeneric
Min Values: 4, 4, 3
Max Values: 255, 255, 255
Mean Values: 151.3833429464, 129.64397499489, 105.8398193085
Standard Deviation Values: 36.196432697737, 26.607451500523, 16.958304503072
Object ID Field:
Fields:
None
Default Mosaic Method: Center
Allowed Mosaic Methods:
SortField:
SortValue: null
Mosaic Operator: First
Default Compression Quality: 75
Default Resampling Method: Bilinear
Max Record Count: null
Max Image Height: 4100
Max Image Width: 15000
Max Download Image Count: null
Max Mosaic Image Count: null
Allow Raster Function: true
Allow Copy: true
Allow Analysis: true
Allow Compute TiePoints: false
Supports Statistics: false
Supports Advanced Queries: false
Use StandardizedQueries: true
Raster Type Infos:
Name: Raster Dataset
Description: Supports all ArcGIS Raster Datasets
Help:
Has Raster Attribute Table: false
Edit Fields Info: null
Ownership Based AccessControl For Rasters: null
Child Resources:
Info
Histograms
Statistics
Key Properties
Legend
Raster Function Infos
Supported Operations:
Export Image
Identify
Measure
Compute Histograms
Compute Statistics Histograms
Get Samples
Compute Class Statistics
Query Boundary
Compute Pixel Location
Compute Angles
Validate
Project