View In:
ArcGIS JavaScript
ArcGIS Online Map Viewer
ArcGIS Earth
Service Description: Western New York Snowfall
Name: GIS_Module/snowfall3
Description: Western New York Snowfall
Single Fused Map Cache: false
Extent:
XMin: 1305482.6562769748
YMin: 451802.4664852269
XMax: 1499252.0724714524
YMax: 633647.6109138904
Spatial Reference: 102005
(102005)
LatestVCSWkid(0)
Initial Extent:
XMin: 1305482.6562769748
YMin: 451802.4664852269
XMax: 1499252.0724714524
YMax: 633647.6109138904
Spatial Reference: 102005
(102005)
LatestVCSWkid(0)
Full Extent:
XMin: 1305482.6562769748
YMin: 451802.4664852269
XMax: 1499252.0724714524
YMax: 633647.6109138904
Spatial Reference: 102005
(102005)
LatestVCSWkid(0)
Pixel Size X: 1490.5339707267506
Pixel Size Y: 1490.5339707267503
Band Count: 1
Pixel Type: F32
RasterFunction Infos: {"rasterFunctionInfos": [
{
"name": "None",
"description": "Make a Raster or Raster Dataset into a Function Raster Dataset.",
"help": ""
},
{
"name": "snowfall",
"description": "A raster function template.",
"help": ""
}
]}
Mensuration Capabilities: Basic
Inspection Capabilities:
Has Histograms: true
Has Colormap: false
Has Multi Dimensions : false
Rendering Rule:
Min Scale: 0
Max Scale: 0
Copyright Text:
Service Data Type: esriImageServiceDataTypeGeneric
Min Values: 51.923248291015625
Max Values: 105.22112274169922
Mean Values: 84.97072802965977
Standard Deviation Values: 13.523973503269795
Object ID Field:
Fields:
None
Default Mosaic Method: Center
Allowed Mosaic Methods:
SortField:
SortValue: null
Mosaic Operator: First
Default Compression Quality: 75
Default Resampling Method: Bilinear
Max Record Count: null
Max Image Height: 4100
Max Image Width: 15000
Max Download Image Count: null
Max Mosaic Image Count: null
Allow Raster Function: true
Allow Copy: true
Allow Analysis: true
Allow Compute TiePoints: false
Supports Statistics: false
Supports Advanced Queries: false
Use StandardizedQueries: true
Raster Type Infos:
Name: Raster Dataset
Description: Supports all ArcGIS Raster Datasets
Help:
Has Raster Attribute Table: false
Edit Fields Info: null
Ownership Based AccessControl For Rasters: null
Child Resources:
Info
Histograms
Statistics
Key Properties
Legend
Raster Function Infos
Supported Operations:
Export Image
Identify
Measure
Compute Histograms
Compute Statistics Histograms
Get Samples
Compute Class Statistics
Query Boundary
Compute Pixel Location
Compute Angles
Validate
Project